Package: curatedCRCData Version: 2.38.0 Command: /home/biocbuild/bbs-3.20-bioc/R/bin/R CMD check --install=check:curatedCRCData.install-out.txt --library=/home/biocbuild/bbs-3.20-bioc/R/site-library --timings curatedCRCData_2.38.0.tar.gz StartedAt: 2025-02-06 11:52:44 -0500 (Thu, 06 Feb 2025) EndedAt: 2025-02-06 11:54:55 -0500 (Thu, 06 Feb 2025) EllapsedTime: 131.5 seconds RetCode: 1 Status: ERROR CheckDir: curatedCRCData.Rcheck Warnings: NA