Package: curatedCRCData Version: 2.38.0 Maintainer: Princy Parsana MaintainerEmail: princyparsana at jhu.edu git_url: https://git.bioconductor.org/packages/curatedCRCData git_branch: RELEASE_3_20 git_last_commit: 6500244 git_last_commit_date: 2024-10-29 09:38:08 -0500 (Tue, 29 Oct 2024)