Package: curatedBreastData Version: 2.38.0 Command: /home/biocbuild/bbs-3.22-bioc/R/bin/R CMD INSTALL curatedBreastData StartedAt: 2025-11-18 10:58:32 -0500 (Tue, 18 Nov 2025) EndedAt: 2025-11-18 10:58:39 -0500 (Tue, 18 Nov 2025) EllapsedTime: 7.7 seconds RetCode: 0 Status: OK