Package: curatedBreastData Version: 2.36.0 Command: /home/biocbuild/bbs-3.21-bioc/R/bin/R CMD build --keep-empty-dirs --no-resave-data curatedBreastData StartedAt: 2025-10-02 11:10:33 -0400 (Thu, 02 Oct 2025) EndedAt: 2025-10-02 11:12:11 -0400 (Thu, 02 Oct 2025) EllapsedTime: 98.3 seconds RetCode: 0 Status: OK PackageFile: curatedBreastData_2.36.0.tar.gz PackageFileSize: 283.1 MiB