Package: curatedBladderData Version: 1.46.0 Command: /home/biocbuild/bbs-3.22-bioc/R/bin/R CMD INSTALL curatedBladderData StartedAt: 2025-10-30 10:56:37 -0400 (Thu, 30 Oct 2025) EndedAt: 2025-10-30 10:56:41 -0400 (Thu, 30 Oct 2025) EllapsedTime: 3.9 seconds RetCode: 0 Status: OK