Package: curatedBladderData Version: 1.45.0 Command: /home/biocbuild/bbs-3.22-bioc/R/bin/R CMD check --install=check:curatedBladderData.install-out.txt --library=/home/biocbuild/bbs-3.22-bioc/R/site-library --timings curatedBladderData_1.45.0.tar.gz StartedAt: 2025-10-28 12:09:16 -0400 (Tue, 28 Oct 2025) EndedAt: 2025-10-28 12:10:21 -0400 (Tue, 28 Oct 2025) EllapsedTime: 65.6 seconds RetCode: 0 Status: OK CheckDir: curatedBladderData.Rcheck Warnings: 0