Package: curatedAdipoRNA Version: 1.24.0 Command: /home/biocbuild/bbs-3.21-bioc/R/bin/R CMD INSTALL curatedAdipoRNA StartedAt: 2025-10-09 11:03:05 -0400 (Thu, 09 Oct 2025) EndedAt: 2025-10-09 11:03:26 -0400 (Thu, 09 Oct 2025) EllapsedTime: 21.5 seconds RetCode: 0 Status: OK