Package: curatedAdipoArray Version: 1.18.0 Command: /home/biocbuild/bbs-3.20-bioc/R/bin/R CMD build --keep-empty-dirs --no-resave-data curatedAdipoArray StartedAt: 2025-02-13 11:09:42 -0500 (Thu, 13 Feb 2025) EndedAt: 2025-02-13 11:09:58 -0500 (Thu, 13 Feb 2025) EllapsedTime: 16.0 seconds RetCode: 0 Status: OK PackageFile: curatedAdipoArray_1.18.0.tar.gz PackageFileSize: 36.26 KiB