Package: crisprScoreData Version: 1.14.0 Command: /home/biocbuild/bbs-3.22-bioc/R/bin/R CMD INSTALL crisprScoreData StartedAt: 2025-11-18 10:58:23 -0500 (Tue, 18 Nov 2025) EndedAt: 2025-11-18 10:58:36 -0500 (Tue, 18 Nov 2025) EllapsedTime: 12.7 seconds RetCode: 0 Status: OK