Package: crisprScoreData Version: 1.14.0 Command: /home/biocbuild/bbs-3.22-bioc/R/bin/R CMD build --keep-empty-dirs --no-resave-data crisprScoreData StartedAt: 2025-11-18 11:15:21 -0500 (Tue, 18 Nov 2025) EndedAt: 2025-11-18 11:16:02 -0500 (Tue, 18 Nov 2025) EllapsedTime: 41.6 seconds RetCode: 0 Status: OK PackageFile: crisprScoreData_1.14.0.tar.gz PackageFileSize: 6.089 MiB