Package: colonCA Version: 1.48.0 Command: /home/biocbuild/bbs-3.20-bioc/R/bin/R CMD INSTALL colonCA StartedAt: 2025-02-13 10:56:22 -0500 (Thu, 13 Feb 2025) EndedAt: 2025-02-13 10:56:24 -0500 (Thu, 13 Feb 2025) EllapsedTime: 2.7 seconds RetCode: 0 Status: OK