Package: cnvGSAdata Version: 1.46.0 Command: /home/biocbuild/bbs-3.22-bioc/R/bin/R CMD INSTALL cnvGSAdata StartedAt: 2025-11-11 10:58:07 -0500 (Tue, 11 Nov 2025) EndedAt: 2025-11-11 10:58:13 -0500 (Tue, 11 Nov 2025) EllapsedTime: 5.7 seconds RetCode: 0 Status: OK