Package: clustifyrdatahub Version: 1.16.0 Command: /home/biocbuild/bbs-3.20-bioc/R/bin/R CMD check --install=check:clustifyrdatahub.install-out.txt --library=/home/biocbuild/bbs-3.20-bioc/R/site-library --timings clustifyrdatahub_1.16.0.tar.gz StartedAt: 2025-02-11 11:51:55 -0500 (Tue, 11 Feb 2025) EndedAt: 2025-02-11 11:53:50 -0500 (Tue, 11 Feb 2025) EllapsedTime: 115.4 seconds RetCode: 0 Status: OK CheckDir: clustifyrdatahub.Rcheck Warnings: 0