Package: clustifyrdatahub Version: 1.18.0 Command: /home/biocbuild/bbs-3.21-bioc/R/bin/R CMD INSTALL clustifyrdatahub StartedAt: 2025-07-24 10:57:19 -0400 (Thu, 24 Jul 2025) EndedAt: 2025-07-24 10:57:33 -0400 (Thu, 24 Jul 2025) EllapsedTime: 13.4 seconds RetCode: 0 Status: OK