Package: chromstaRData Version: 1.36.0 Command: /home/biocbuild/bbs-3.22-bioc/R/bin/R CMD build --keep-empty-dirs --no-resave-data chromstaRData StartedAt: 2025-11-20 11:11:47 -0500 (Thu, 20 Nov 2025) EndedAt: 2025-11-20 11:11:57 -0500 (Thu, 20 Nov 2025) EllapsedTime: 9.9 seconds RetCode: 0 Status: OK PackageFile: chromstaRData_1.36.0.tar.gz PackageFileSize: 140.2 MiB