Package: chipseqDBData Version: 1.22.0 Command: /home/biocbuild/bbs-3.20-bioc/R/bin/R CMD INSTALL chipseqDBData StartedAt: 2025-02-06 11:01:35 -0500 (Thu, 06 Feb 2025) EndedAt: 2025-02-06 11:01:51 -0500 (Thu, 06 Feb 2025) EllapsedTime: 16.0 seconds RetCode: 0 Status: OK