Package: chipenrich.data Version: 2.30.0 Command: /home/biocbuild/bbs-3.20-bioc/R/bin/R CMD INSTALL chipenrich.data StartedAt: 2025-02-11 11:01:52 -0500 (Tue, 11 Feb 2025) EndedAt: 2025-02-11 11:03:47 -0500 (Tue, 11 Feb 2025) EllapsedTime: 115.4 seconds RetCode: 0 Status: OK