Package: cfToolsData Version: 1.4.0 Command: /home/biocbuild/bbs-3.20-bioc/R/bin/R CMD check --install=check:cfToolsData.install-out.txt --library=/home/biocbuild/bbs-3.20-bioc/R/site-library --timings cfToolsData_1.4.0.tar.gz StartedAt: 2025-02-06 11:48:24 -0500 (Thu, 06 Feb 2025) EndedAt: 2025-02-06 11:50:32 -0500 (Thu, 06 Feb 2025) EllapsedTime: 128.2 seconds RetCode: 0 Status: OK CheckDir: cfToolsData.Rcheck Warnings: 0