Package: cfToolsData Version: 1.4.0 Command: /home/biocbuild/bbs-3.20-bioc/R/bin/R CMD build --keep-empty-dirs --no-resave-data cfToolsData StartedAt: 2025-02-06 11:07:46 -0500 (Thu, 06 Feb 2025) EndedAt: 2025-02-06 11:08:14 -0500 (Thu, 06 Feb 2025) EllapsedTime: 28.5 seconds RetCode: 0 Status: OK PackageFile: cfToolsData_1.4.0.tar.gz PackageFileSize: 413 KiB