Package: celldex Version: 1.16.0 Command: /home/biocbuild/bbs-3.20-bioc/R/bin/R CMD INSTALL celldex StartedAt: 2025-01-30 11:04:14 -0500 (Thu, 30 Jan 2025) EndedAt: 2025-01-30 11:04:45 -0500 (Thu, 30 Jan 2025) EllapsedTime: 31.2 seconds RetCode: 0 Status: OK