Package: celldex Version: 1.16.0 Command: /home/biocbuild/bbs-3.20-bioc/R/bin/R CMD build --keep-empty-dirs --no-resave-data celldex StartedAt: 2025-01-30 11:07:55 -0500 (Thu, 30 Jan 2025) EndedAt: 2025-01-30 11:08:43 -0500 (Thu, 30 Jan 2025) EllapsedTime: 47.9 seconds RetCode: 0 Status: OK PackageFile: celldex_1.16.0.tar.gz PackageFileSize: 402.6 KiB