Package: celarefData Version: 1.26.0 Command: /home/biocbuild/bbs-3.21-bioc/R/bin/R CMD build --keep-empty-dirs --no-resave-data celarefData StartedAt: 2025-10-02 11:07:32 -0400 (Thu, 02 Oct 2025) EndedAt: 2025-10-02 11:08:05 -0400 (Thu, 02 Oct 2025) EllapsedTime: 33.7 seconds RetCode: 0 Status: OK PackageFile: celarefData_1.26.0.tar.gz PackageFileSize: 231.4 KiB