Package: ccdata Version: 1.34.0 Command: /home/biocbuild/bbs-3.21-bioc/R/bin/R CMD INSTALL ccdata StartedAt: 2025-10-07 10:55:39 -0400 (Tue, 07 Oct 2025) EndedAt: 2025-10-07 10:55:45 -0400 (Tue, 07 Oct 2025) EllapsedTime: 6.1 seconds RetCode: 0 Status: OK