Package: ccdata Version: 1.34.0 Command: /home/biocbuild/bbs-3.21-bioc/R/bin/R CMD build --keep-empty-dirs --no-resave-data ccdata StartedAt: 2025-10-02 11:07:29 -0400 (Thu, 02 Oct 2025) EndedAt: 2025-10-02 11:08:21 -0400 (Thu, 02 Oct 2025) EllapsedTime: 52.1 seconds RetCode: 0 Status: OK PackageFile: ccdata_1.34.0.tar.gz PackageFileSize: 893.9 MiB