Package: cMap2data Version: 1.42.0 Command: /home/biocbuild/bbs-3.20-bioc/R/bin/R CMD build --keep-empty-dirs --no-resave-data cMap2data StartedAt: 2025-02-06 11:09:08 -0500 (Thu, 06 Feb 2025) EndedAt: 2025-02-06 11:09:23 -0500 (Thu, 06 Feb 2025) EllapsedTime: 14.6 seconds RetCode: 0 Status: OK PackageFile: cMap2data_1.42.0.tar.gz PackageFileSize: 27.94 MiB