Package: bugphyzz Version: 1.0.0 Command: /home/biocbuild/bbs-3.20-bioc/R/bin/R CMD INSTALL bugphyzz StartedAt: 2025-02-13 10:56:43 -0500 (Thu, 13 Feb 2025) EndedAt: 2025-02-13 10:56:45 -0500 (Thu, 13 Feb 2025) EllapsedTime: 2.6 seconds RetCode: 0 Status: OK