Package: bugphyzz Version: 1.0.0 Command: /home/biocbuild/bbs-3.20-bioc/R/bin/R CMD check --install=check:bugphyzz.install-out.txt --library=/home/biocbuild/bbs-3.20-bioc/R/site-library --timings bugphyzz_1.0.0.tar.gz StartedAt: 2025-02-13 11:47:11 -0500 (Thu, 13 Feb 2025) EndedAt: 2025-02-13 11:54:16 -0500 (Thu, 13 Feb 2025) EllapsedTime: 424.3 seconds RetCode: 0 Status: OK CheckDir: bugphyzz.Rcheck Warnings: 0