Package: bronchialIL13 Version: 1.48.0 Command: /home/biocbuild/bbs-3.22-bioc/R/bin/R CMD INSTALL bronchialIL13 StartedAt: 2025-11-18 10:56:47 -0500 (Tue, 18 Nov 2025) EndedAt: 2025-11-18 10:56:51 -0500 (Tue, 18 Nov 2025) EllapsedTime: 4.6 seconds RetCode: 0 Status: OK