Package: brgedata Version: 1.32.0 Command: /home/biocbuild/bbs-3.22-bioc/R/bin/R CMD INSTALL brgedata StartedAt: 2025-11-18 10:58:54 -0500 (Tue, 18 Nov 2025) EndedAt: 2025-11-18 11:00:00 -0500 (Tue, 18 Nov 2025) EllapsedTime: 66.4 seconds RetCode: 0 Status: OK