Package: breastCancerUPP Version: 1.44.0 Command: /home/biocbuild/bbs-3.20-bioc/R/bin/R CMD build --keep-empty-dirs --no-resave-data breastCancerUPP StartedAt: 2025-02-06 11:06:55 -0500 (Thu, 06 Feb 2025) EndedAt: 2025-02-06 11:06:58 -0500 (Thu, 06 Feb 2025) EllapsedTime: 3.7 seconds RetCode: 0 Status: OK PackageFile: breastCancerUPP_1.44.0.tar.gz PackageFileSize: 29.59 MiB