Package: breastCancerTRANSBIG Version: 1.44.0 Command: /home/biocbuild/bbs-3.20-bioc/R/bin/R CMD check --install=check:breastCancerTRANSBIG.install-out.txt --library=/home/biocbuild/bbs-3.20-bioc/R/site-library --timings breastCancerTRANSBIG_1.44.0.tar.gz StartedAt: 2025-02-11 11:47:05 -0500 (Tue, 11 Feb 2025) EndedAt: 2025-02-11 11:47:58 -0500 (Tue, 11 Feb 2025) EllapsedTime: 52.9 seconds RetCode: 0 Status: WARNINGS CheckDir: breastCancerTRANSBIG.Rcheck Warnings: 1