Package: breastCancerMAINZ Version: 1.44.0 Command: /home/biocbuild/bbs-3.20-bioc/R/bin/R CMD check --install=check:breastCancerMAINZ.install-out.txt --library=/home/biocbuild/bbs-3.20-bioc/R/site-library --timings breastCancerMAINZ_1.44.0.tar.gz StartedAt: 2025-02-06 11:45:20 -0500 (Thu, 06 Feb 2025) EndedAt: 2025-02-06 11:46:12 -0500 (Thu, 06 Feb 2025) EllapsedTime: 51.3 seconds RetCode: 0 Status: WARNINGS CheckDir: breastCancerMAINZ.Rcheck Warnings: 1