Package: bodymapRat Version: 1.24.0 Command: /home/biocbuild/bbs-3.21-bioc/R/bin/R CMD build --keep-empty-dirs --no-resave-data bodymapRat StartedAt: 2025-10-16 11:06:55 -0400 (Thu, 16 Oct 2025) EndedAt: 2025-10-16 11:07:38 -0400 (Thu, 16 Oct 2025) EllapsedTime: 43.5 seconds RetCode: 0 Status: OK PackageFile: bodymapRat_1.24.0.tar.gz PackageFileSize: 299.2 KiB