Package: blimaTestingData Version: 1.26.0 Command: /home/biocbuild/bbs-3.20-bioc/R/bin/R CMD check --install=check:blimaTestingData.install-out.txt --library=/home/biocbuild/bbs-3.20-bioc/R/site-library --timings blimaTestingData_1.26.0.tar.gz StartedAt: 2025-02-06 11:44:56 -0500 (Thu, 06 Feb 2025) EndedAt: 2025-02-06 11:46:19 -0500 (Thu, 06 Feb 2025) EllapsedTime: 83.2 seconds RetCode: 0 Status: OK CheckDir: blimaTestingData.Rcheck Warnings: 0