Package: bladderbatch Version: 1.44.0 Command: /home/biocbuild/bbs-3.20-bioc/R/bin/R CMD INSTALL bladderbatch StartedAt: 2025-02-13 10:56:11 -0500 (Thu, 13 Feb 2025) EndedAt: 2025-02-13 10:56:14 -0500 (Thu, 13 Feb 2025) EllapsedTime: 2.6 seconds RetCode: 0 Status: OK