Package: biscuiteerData Version: 1.20.0 Command: /home/biocbuild/bbs-3.20-bioc/R/bin/R CMD check --install=check:biscuiteerData.install-out.txt --library=/home/biocbuild/bbs-3.20-bioc/R/site-library --timings biscuiteerData_1.20.0.tar.gz StartedAt: 2025-02-13 11:45:20 -0500 (Thu, 13 Feb 2025) EndedAt: 2025-02-13 11:47:33 -0500 (Thu, 13 Feb 2025) EllapsedTime: 133.1 seconds RetCode: 0 Status: OK CheckDir: biscuiteerData.Rcheck Warnings: 0