Package: biscuiteerData Version: 1.20.0 Command: /home/biocbuild/bbs-3.20-bioc/R/bin/R CMD build --keep-empty-dirs --no-resave-data biscuiteerData StartedAt: 2025-02-13 11:06:10 -0500 (Thu, 13 Feb 2025) EndedAt: 2025-02-13 11:06:41 -0500 (Thu, 13 Feb 2025) EllapsedTime: 31.1 seconds RetCode: 0 Status: OK PackageFile: biscuiteerData_1.20.0.tar.gz PackageFileSize: 188.2 KiB