Package: biotmleData Version: 1.30.0 Command: /home/biocbuild/bbs-3.20-bioc/R/bin/R CMD check --install=check:biotmleData.install-out.txt --library=/home/biocbuild/bbs-3.20-bioc/R/site-library --timings biotmleData_1.30.0.tar.gz StartedAt: 2025-02-11 11:46:28 -0500 (Tue, 11 Feb 2025) EndedAt: 2025-02-11 11:47:05 -0500 (Tue, 11 Feb 2025) EllapsedTime: 36.5 seconds RetCode: 0 Status: WARNINGS CheckDir: biotmleData.Rcheck Warnings: 2