Package: beta7 Version: 1.44.0 Command: /home/biocbuild/bbs-3.20-bioc/R/bin/R CMD INSTALL beta7 StartedAt: 2025-02-18 10:56:17 -0500 (Tue, 18 Feb 2025) EndedAt: 2025-02-18 10:56:19 -0500 (Tue, 18 Feb 2025) EllapsedTime: 1.6 seconds RetCode: 0 Status: OK