Package: benchmarkfdrData2019 Version: 1.20.0 Command: /home/biocbuild/bbs-3.20-bioc/R/bin/R CMD INSTALL benchmarkfdrData2019 StartedAt: 2025-02-11 11:03:47 -0500 (Tue, 11 Feb 2025) EndedAt: 2025-02-11 11:04:13 -0500 (Tue, 11 Feb 2025) EllapsedTime: 25.6 seconds RetCode: 0 Status: OK