Package: benchmarkfdrData2019 Version: 1.20.0 Command: /home/biocbuild/bbs-3.20-bioc/R/bin/R CMD check --install=check:benchmarkfdrData2019.install-out.txt --library=/home/biocbuild/bbs-3.20-bioc/R/site-library --timings benchmarkfdrData2019_1.20.0.tar.gz StartedAt: 2025-02-06 11:44:39 -0500 (Thu, 06 Feb 2025) EndedAt: 2025-02-06 11:47:25 -0500 (Thu, 06 Feb 2025) EllapsedTime: 166.4 seconds RetCode: 0 Status: OK CheckDir: benchmarkfdrData2019.Rcheck Warnings: 0