Package: antiProfilesData Version: 1.42.0 Command: /home/biocbuild/bbs-3.20-bioc/R/bin/R CMD INSTALL antiProfilesData StartedAt: 2025-02-18 10:56:04 -0500 (Tue, 18 Feb 2025) EndedAt: 2025-02-18 10:56:06 -0500 (Tue, 18 Feb 2025) EllapsedTime: 1.9 seconds RetCode: 0 Status: OK