Package: affycompData Version: 1.46.0 Command: /home/biocbuild/bbs-3.21-bioc/R/bin/R CMD INSTALL affycompData StartedAt: 2025-10-16 10:56:23 -0400 (Thu, 16 Oct 2025) EndedAt: 2025-10-16 10:56:28 -0400 (Thu, 16 Oct 2025) EllapsedTime: 4.7 seconds RetCode: 0 Status: OK