Package: affycompData Version: 1.48.0 Maintainer: Robert D Shear MaintainerEmail: rshear at ds.dfci.harvard.edu git_url: https://git.bioconductor.org/packages/affycompData git_branch: RELEASE_3_22 git_last_commit: 45dff8f git_last_commit_date: 2025-10-29 09:32:05 -0500 (Wed, 29 Oct 2025)