Package: adductData Version: 1.26.0 Command: /home/biocbuild/bbs-3.22-bioc/R/bin/R CMD build --keep-empty-dirs --no-resave-data adductData StartedAt: 2025-11-25 11:07:25 -0500 (Tue, 25 Nov 2025) EndedAt: 2025-11-25 11:07:37 -0500 (Tue, 25 Nov 2025) EllapsedTime: 11.4 seconds RetCode: 0 Status: OK PackageFile: adductData_1.26.0.tar.gz PackageFileSize: 7.583 KiB