Package: XhybCasneuf Version: 1.44.0 Command: /home/biocbuild/bbs-3.20-bioc/R/bin/R CMD INSTALL XhybCasneuf StartedAt: 2025-02-13 10:57:19 -0500 (Thu, 13 Feb 2025) EndedAt: 2025-02-13 10:57:33 -0500 (Thu, 13 Feb 2025) EllapsedTime: 13.3 seconds RetCode: 0 Status: OK