Package: WeberDivechaLCdata Version: 1.10.0 Command: /home/biocbuild/bbs-3.21-bioc/R/bin/R CMD INSTALL WeberDivechaLCdata StartedAt: 2025-10-14 10:59:10 -0400 (Tue, 14 Oct 2025) EndedAt: 2025-10-14 10:59:38 -0400 (Tue, 14 Oct 2025) EllapsedTime: 28.4 seconds RetCode: 0 Status: OK