Package: WeberDivechaLCdata Version: 1.10.0 Command: /home/biocbuild/bbs-3.21-bioc/R/bin/R CMD build --keep-empty-dirs --no-resave-data WeberDivechaLCdata StartedAt: 2025-10-14 11:44:43 -0400 (Tue, 14 Oct 2025) EndedAt: 2025-10-14 11:46:28 -0400 (Tue, 14 Oct 2025) EllapsedTime: 105.5 seconds RetCode: 0 Status: OK PackageFile: WeberDivechaLCdata_1.10.0.tar.gz PackageFileSize: 223.6 KiB