Package: WGSmapp Version: 1.20.0 Command: /home/biocbuild/bbs-3.21-bioc/R/bin/R CMD INSTALL WGSmapp StartedAt: 2025-10-16 10:58:28 -0400 (Thu, 16 Oct 2025) EndedAt: 2025-10-16 10:59:12 -0400 (Thu, 16 Oct 2025) EllapsedTime: 44.0 seconds RetCode: 0 Status: OK