Package: WGSmapp Version: 1.20.0 Command: /home/biocbuild/bbs-3.21-bioc/R/bin/R CMD build --keep-empty-dirs --no-resave-data WGSmapp StartedAt: 2025-10-16 11:44:59 -0400 (Thu, 16 Oct 2025) EndedAt: 2025-10-16 11:45:18 -0400 (Thu, 16 Oct 2025) EllapsedTime: 18.8 seconds RetCode: 0 Status: OK PackageFile: WGSmapp_1.20.0.tar.gz PackageFileSize: 195.7 MiB